BEGIN:VCALENDAR
VERSION:2.0
PRODID:-//Königsspringer Hamburg - ECPv6.15.17.1//NONSGML v1.0//EN
CALSCALE:GREGORIAN
METHOD:PUBLISH
X-WR-CALNAME:Königsspringer Hamburg
X-ORIGINAL-URL:https://ksh1984.de
X-WR-CALDESC:Veranstaltungen für Königsspringer Hamburg
REFRESH-INTERVAL;VALUE=DURATION:PT1H
X-Robots-Tag:noindex
X-PUBLISHED-TTL:PT1H
BEGIN:VTIMEZONE
TZID:Europe/Berlin
BEGIN:DAYLIGHT
TZOFFSETFROM:+0100
TZOFFSETTO:+0200
TZNAME:CEST
DTSTART:20240331T010000
END:DAYLIGHT
BEGIN:STANDARD
TZOFFSETFROM:+0200
TZOFFSETTO:+0100
TZNAME:CET
DTSTART:20241027T010000
END:STANDARD
BEGIN:DAYLIGHT
TZOFFSETFROM:+0100
TZOFFSETTO:+0200
TZNAME:CEST
DTSTART:20250330T010000
END:DAYLIGHT
BEGIN:STANDARD
TZOFFSETFROM:+0200
TZOFFSETTO:+0100
TZNAME:CET
DTSTART:20251026T010000
END:STANDARD
BEGIN:DAYLIGHT
TZOFFSETFROM:+0100
TZOFFSETTO:+0200
TZNAME:CEST
DTSTART:20260329T010000
END:DAYLIGHT
BEGIN:STANDARD
TZOFFSETFROM:+0200
TZOFFSETTO:+0100
TZNAME:CET
DTSTART:20261025T010000
END:STANDARD
END:VTIMEZONE
BEGIN:VEVENT
DTSTART;TZID=Europe/Berlin:20250328T190000
DTEND;TZID=Europe/Berlin:20250328T190000
DTSTAMP:20260421T010954
CREATED:20250126T161918Z
LAST-MODIFIED:20250228T080950Z
UID:8252-1743188400-1743188400@ksh1984.de
SUMMARY:KSH 2 - HSK 7
DESCRIPTION:
URL:https://ksh1984.de/termin/ksh-2-hsk-7/
ATTACH;FMTTYPE=:
END:VEVENT
BEGIN:VEVENT
DTSTART;TZID=Europe/Berlin:20250328T190000
DTEND;TZID=Europe/Berlin:20250328T190000
DTSTAMP:20260421T010954
CREATED:20250126T162656Z
LAST-MODIFIED:20250126T162656Z
UID:8264-1743188400-1743188400@ksh1984.de
SUMMARY:KSH 5 - Bille 2
DESCRIPTION:
URL:https://ksh1984.de/termin/ksh-5-bille-2/
ATTACH;FMTTYPE=:
END:VEVENT
END:VCALENDAR