BEGIN:VCALENDAR
VERSION:2.0
PRODID:-//Königsspringer Hamburg - ECPv6.15.17.1//NONSGML v1.0//EN
CALSCALE:GREGORIAN
METHOD:PUBLISH
X-ORIGINAL-URL:https://ksh1984.de
X-WR-CALDESC:Veranstaltungen für Königsspringer Hamburg
REFRESH-INTERVAL;VALUE=DURATION:PT1H
X-Robots-Tag:noindex
X-PUBLISHED-TTL:PT1H
BEGIN:VTIMEZONE
TZID:Europe/Berlin
BEGIN:DAYLIGHT
TZOFFSETFROM:+0100
TZOFFSETTO:+0200
TZNAME:CEST
DTSTART:20230326T010000
END:DAYLIGHT
BEGIN:STANDARD
TZOFFSETFROM:+0200
TZOFFSETTO:+0100
TZNAME:CET
DTSTART:20231029T010000
END:STANDARD
BEGIN:DAYLIGHT
TZOFFSETFROM:+0100
TZOFFSETTO:+0200
TZNAME:CEST
DTSTART:20240331T010000
END:DAYLIGHT
BEGIN:STANDARD
TZOFFSETFROM:+0200
TZOFFSETTO:+0100
TZNAME:CET
DTSTART:20241027T010000
END:STANDARD
BEGIN:DAYLIGHT
TZOFFSETFROM:+0100
TZOFFSETTO:+0200
TZNAME:CEST
DTSTART:20250330T010000
END:DAYLIGHT
BEGIN:STANDARD
TZOFFSETFROM:+0200
TZOFFSETTO:+0100
TZNAME:CET
DTSTART:20251026T010000
END:STANDARD
END:VTIMEZONE
BEGIN:VEVENT
DTSTART;TZID=Europe/Berlin:20240204T110000
DTEND;TZID=Europe/Berlin:20240204T110000
DTSTAMP:20260423T164806
CREATED:20231215T202558Z
LAST-MODIFIED:20231215T202915Z
UID:7805-1707044400-1707044400@ksh1984.de
SUMMARY:KSH 1 - SKJE 1 und KSH 2 - Marmstorf
DESCRIPTION:
URL:https://ksh1984.de/termin/ksh-1-skje-1/
ATTACH;FMTTYPE=:
END:VEVENT
BEGIN:VEVENT
DTSTART;TZID=Europe/Berlin:20240208T190000
DTEND;TZID=Europe/Berlin:20240208T190000
DTSTAMP:20260423T164806
CREATED:20231215T201924Z
LAST-MODIFIED:20231215T201924Z
UID:7792-1707418800-1707418800@ksh1984.de
SUMMARY:KSH 7 - HSK 25
DESCRIPTION:
URL:https://ksh1984.de/termin/ksh-7-hsk-25/
ATTACH;FMTTYPE=:
END:VEVENT
BEGIN:VEVENT
DTSTART;TZID=Europe/Berlin:20240209T190000
DTEND;TZID=Europe/Berlin:20240209T190000
DTSTAMP:20260423T164806
CREATED:20231215T202008Z
LAST-MODIFIED:20231215T202008Z
UID:7794-1707505200-1707505200@ksh1984.de
SUMMARY:KSH 3 - Schachschweine
DESCRIPTION:
URL:https://ksh1984.de/termin/ksh-3-schachschweine/
ATTACH;FMTTYPE=:
END:VEVENT
BEGIN:VEVENT
DTSTART;TZID=Europe/Berlin:20240216T190000
DTEND;TZID=Europe/Berlin:20240216T190000
DTSTAMP:20260423T164806
CREATED:20231215T202054Z
LAST-MODIFIED:20231215T202054Z
UID:7796-1708110000-1708110000@ksh1984.de
SUMMARY:KSH 6 - SKJE 6
DESCRIPTION:
URL:https://ksh1984.de/termin/ksh-6-skje-6/
ATTACH;FMTTYPE=:
END:VEVENT
BEGIN:VEVENT
DTSTART;TZID=Europe/Berlin:20240222T190000
DTEND;TZID=Europe/Berlin:20240222T190000
DTSTAMP:20260423T164806
CREATED:20231215T202144Z
LAST-MODIFIED:20231215T202144Z
UID:7798-1708628400-1708628400@ksh1984.de
SUMMARY:KSH 4 - Eimsbüttel 4
DESCRIPTION:
URL:https://ksh1984.de/termin/ksh-4-eimsbuettel-4/
ATTACH;FMTTYPE=:
END:VEVENT
BEGIN:VEVENT
DTSTART;TZID=Europe/Berlin:20240223T190000
DTEND;TZID=Europe/Berlin:20240223T190000
DTSTAMP:20260423T164806
CREATED:20231215T202230Z
LAST-MODIFIED:20231215T202230Z
UID:7800-1708714800-1708714800@ksh1984.de
SUMMARY:KSH 5 - Bergstedt 2
DESCRIPTION:
URL:https://ksh1984.de/termin/ksh-5-bergstedt-2/
ATTACH;FMTTYPE=:
END:VEVENT
END:VCALENDAR