BEGIN:VCALENDAR
VERSION:2.0
PRODID:-//Königsspringer Hamburg - ECPv6.15.17.1//NONSGML v1.0//EN
CALSCALE:GREGORIAN
METHOD:PUBLISH
X-WR-CALNAME:Königsspringer Hamburg
X-ORIGINAL-URL:https://ksh1984.de
X-WR-CALDESC:Veranstaltungen für Königsspringer Hamburg
REFRESH-INTERVAL;VALUE=DURATION:PT1H
X-Robots-Tag:noindex
X-PUBLISHED-TTL:PT1H
BEGIN:VTIMEZONE
TZID:Europe/Berlin
BEGIN:DAYLIGHT
TZOFFSETFROM:+0100
TZOFFSETTO:+0200
TZNAME:CEST
DTSTART:20230326T010000
END:DAYLIGHT
BEGIN:STANDARD
TZOFFSETFROM:+0200
TZOFFSETTO:+0100
TZNAME:CET
DTSTART:20231029T010000
END:STANDARD
BEGIN:DAYLIGHT
TZOFFSETFROM:+0100
TZOFFSETTO:+0200
TZNAME:CEST
DTSTART:20240331T010000
END:DAYLIGHT
BEGIN:STANDARD
TZOFFSETFROM:+0200
TZOFFSETTO:+0100
TZNAME:CET
DTSTART:20241027T010000
END:STANDARD
BEGIN:DAYLIGHT
TZOFFSETFROM:+0100
TZOFFSETTO:+0200
TZNAME:CEST
DTSTART:20250330T010000
END:DAYLIGHT
BEGIN:STANDARD
TZOFFSETFROM:+0200
TZOFFSETTO:+0100
TZNAME:CET
DTSTART:20251026T010000
END:STANDARD
END:VTIMEZONE
BEGIN:VEVENT
DTSTART;TZID=Europe/Berlin:20240405T190000
DTEND;TZID=Europe/Berlin:20240405T190000
DTSTAMP:20260423T134337
CREATED:20240331T200647Z
LAST-MODIFIED:20240331T200647Z
UID:7874-1712343600-1712343600@ksh1984.de
SUMMARY:KSH 5 - Bergedorf
DESCRIPTION:
URL:https://ksh1984.de/termin/ksh-5-bergedorf/
ATTACH;FMTTYPE=:
END:VEVENT
BEGIN:VEVENT
DTSTART;TZID=Europe/Berlin:20240407T110000
DTEND;TZID=Europe/Berlin:20240407T110000
DTSTAMP:20260423T134337
CREATED:20231215T203105Z
LAST-MODIFIED:20231215T203105Z
UID:7812-1712487600-1712487600@ksh1984.de
SUMMARY:KSH 2 - Diogenes
DESCRIPTION:
URL:https://ksh1984.de/termin/ksh-2-diogenes/
ATTACH;FMTTYPE=:
END:VEVENT
BEGIN:VEVENT
DTSTART;TZID=Europe/Berlin:20240412T190000
DTEND;TZID=Europe/Berlin:20240412T190000
DTSTAMP:20260423T134337
CREATED:20240331T200938Z
LAST-MODIFIED:20240331T200938Z
UID:7878-1712948400-1712948400@ksh1984.de
SUMMARY:KSH 6 - Fischbek 4
DESCRIPTION:
URL:https://ksh1984.de/termin/ksh-6-fischbek-4/
ATTACH;FMTTYPE=:
END:VEVENT
BEGIN:VEVENT
DTSTART;TZID=Europe/Berlin:20240418T190000
DTEND;TZID=Europe/Berlin:20240418T190000
DTSTAMP:20260423T134337
CREATED:20240331T200531Z
LAST-MODIFIED:20240331T200531Z
UID:7869-1713466800-1713466800@ksh1984.de
SUMMARY:KSH 4 - Blankenese 3
DESCRIPTION:
URL:https://ksh1984.de/termin/ksh-4-blankenese-3-2/
ATTACH;FMTTYPE=:
END:VEVENT
BEGIN:VEVENT
DTSTART;TZID=Europe/Berlin:20240426T190000
DTEND;TZID=Europe/Berlin:20240426T190000
DTSTAMP:20260423T134337
CREATED:20240331T200825Z
LAST-MODIFIED:20240331T200825Z
UID:7876-1714158000-1714158000@ksh1984.de
SUMMARY:KSH 5 -Bille 3
DESCRIPTION:
URL:https://ksh1984.de/termin/ksh-5-bille-3/
ATTACH;FMTTYPE=:
END:VEVENT
BEGIN:VEVENT
DTSTART;TZID=Europe/Berlin:20240428T110000
DTEND;TZID=Europe/Berlin:20240428T110000
DTSTAMP:20260423T134337
CREATED:20231215T202806Z
LAST-MODIFIED:20231215T202806Z
UID:7809-1714302000-1714302000@ksh1984.de
SUMMARY:KSH 1 - St. Pauli 2
DESCRIPTION:
URL:https://ksh1984.de/termin/ksh-1-st-pauli-2-2/
ATTACH;FMTTYPE=:
END:VEVENT
END:VCALENDAR