BEGIN:VCALENDAR
VERSION:2.0
PRODID:-//Königsspringer Hamburg - ECPv6.15.17.1//NONSGML v1.0//EN
CALSCALE:GREGORIAN
METHOD:PUBLISH
X-ORIGINAL-URL:https://ksh1984.de
X-WR-CALDESC:Veranstaltungen für Königsspringer Hamburg
REFRESH-INTERVAL;VALUE=DURATION:PT1H
X-Robots-Tag:noindex
X-PUBLISHED-TTL:PT1H
BEGIN:VTIMEZONE
TZID:Europe/Berlin
BEGIN:DAYLIGHT
TZOFFSETFROM:+0100
TZOFFSETTO:+0200
TZNAME:CEST
DTSTART:20230326T010000
END:DAYLIGHT
BEGIN:STANDARD
TZOFFSETFROM:+0200
TZOFFSETTO:+0100
TZNAME:CET
DTSTART:20231029T010000
END:STANDARD
BEGIN:DAYLIGHT
TZOFFSETFROM:+0100
TZOFFSETTO:+0200
TZNAME:CEST
DTSTART:20240331T010000
END:DAYLIGHT
BEGIN:STANDARD
TZOFFSETFROM:+0200
TZOFFSETTO:+0100
TZNAME:CET
DTSTART:20241027T010000
END:STANDARD
BEGIN:DAYLIGHT
TZOFFSETFROM:+0100
TZOFFSETTO:+0200
TZNAME:CEST
DTSTART:20250330T010000
END:DAYLIGHT
BEGIN:STANDARD
TZOFFSETFROM:+0200
TZOFFSETTO:+0100
TZNAME:CET
DTSTART:20251026T010000
END:STANDARD
END:VTIMEZONE
BEGIN:VEVENT
DTSTART;TZID=Europe/Berlin:20241201T110000
DTEND;TZID=Europe/Berlin:20241201T170000
DTSTAMP:20260421T040041
CREATED:20241013T122237Z
LAST-MODIFIED:20241013T122237Z
UID:8056-1733050800-1733072400@ksh1984.de
SUMMARY:KSH 1 - Bargteheide
DESCRIPTION:
URL:https://ksh1984.de/termin/ksh-1-bargteheide/
ATTACH;FMTTYPE=:
END:VEVENT
BEGIN:VEVENT
DTSTART;TZID=Europe/Berlin:20241206T190000
DTEND;TZID=Europe/Berlin:20241206T190000
DTSTAMP:20260421T040041
CREATED:20241013T123401Z
LAST-MODIFIED:20241013T123401Z
UID:8072-1733511600-1733511600@ksh1984.de
SUMMARY:Vereinsmeisterschaft Runde 5
DESCRIPTION:
URL:https://ksh1984.de/termin/vereinsmeisterschaft-runde-5/
ATTACH;FMTTYPE=:
END:VEVENT
BEGIN:VEVENT
DTSTART;TZID=Europe/Berlin:20241207T150000
DTEND;TZID=Europe/Berlin:20241207T220000
DTSTAMP:20260421T040041
CREATED:20241013T123634Z
LAST-MODIFIED:20241013T123634Z
UID:8074-1733583600-1733608800@ksh1984.de
SUMMARY:Weihnachtsfeier
DESCRIPTION:
URL:https://ksh1984.de/termin/weihnachtsfeier-3/
ATTACH;FMTTYPE=:
END:VEVENT
END:VCALENDAR