BEGIN:VCALENDAR
VERSION:2.0
PRODID:-//Königsspringer Hamburg - ECPv6.15.17.1//NONSGML v1.0//EN
CALSCALE:GREGORIAN
METHOD:PUBLISH
X-WR-CALNAME:Königsspringer Hamburg
X-ORIGINAL-URL:https://ksh1984.de
X-WR-CALDESC:Veranstaltungen für Königsspringer Hamburg
REFRESH-INTERVAL;VALUE=DURATION:PT1H
X-Robots-Tag:noindex
X-PUBLISHED-TTL:PT1H
BEGIN:VTIMEZONE
TZID:Europe/Berlin
BEGIN:DAYLIGHT
TZOFFSETFROM:+0100
TZOFFSETTO:+0200
TZNAME:CEST
DTSTART:20240331T010000
END:DAYLIGHT
BEGIN:STANDARD
TZOFFSETFROM:+0200
TZOFFSETTO:+0100
TZNAME:CET
DTSTART:20241027T010000
END:STANDARD
BEGIN:DAYLIGHT
TZOFFSETFROM:+0100
TZOFFSETTO:+0200
TZNAME:CEST
DTSTART:20250330T010000
END:DAYLIGHT
BEGIN:STANDARD
TZOFFSETFROM:+0200
TZOFFSETTO:+0100
TZNAME:CET
DTSTART:20251026T010000
END:STANDARD
BEGIN:DAYLIGHT
TZOFFSETFROM:+0100
TZOFFSETTO:+0200
TZNAME:CEST
DTSTART:20260329T010000
END:DAYLIGHT
BEGIN:STANDARD
TZOFFSETFROM:+0200
TZOFFSETTO:+0100
TZNAME:CET
DTSTART:20261025T010000
END:STANDARD
END:VTIMEZONE
BEGIN:VEVENT
DTSTART;TZID=Europe/Berlin:20250508T190000
DTEND;TZID=Europe/Berlin:20250508T190000
DTSTAMP:20260420T204746
CREATED:20250126T163803Z
LAST-MODIFIED:20250126T163803Z
UID:8279-1746730800-1746730800@ksh1984.de
SUMMARY:KSH 7 - Lurup
DESCRIPTION:
URL:https://ksh1984.de/termin/ksh-7-lurup/
ATTACH;FMTTYPE=:
END:VEVENT
BEGIN:VEVENT
DTSTART;TZID=Europe/Berlin:20250509T190000
DTEND;TZID=Europe/Berlin:20250509T190000
DTSTAMP:20260420T204746
CREATED:20250126T162454Z
LAST-MODIFIED:20250126T162454Z
UID:8260-1746817200-1746817200@ksh1984.de
SUMMARY:KSH 3 - Langenhorn
DESCRIPTION:
URL:https://ksh1984.de/termin/ksh-3-langenhorn-2/
ATTACH;FMTTYPE=:
END:VEVENT
BEGIN:VEVENT
DTSTART;TZID=Europe/Berlin:20250523T190000
DTEND;TZID=Europe/Berlin:20250523T190000
DTSTAMP:20260420T204746
CREATED:20250126T162754Z
LAST-MODIFIED:20250126T162754Z
UID:8266-1748026800-1748026800@ksh1984.de
SUMMARY:KSH 5 - HSK 19
DESCRIPTION:
URL:https://ksh1984.de/termin/ksh-5-hsk-19/
ATTACH;FMTTYPE=:
END:VEVENT
BEGIN:VEVENT
DTSTART;TZID=Europe/Berlin:20250523T190000
DTEND;TZID=Europe/Berlin:20250523T230000
DTSTAMP:20260420T204746
CREATED:20250126T162033Z
LAST-MODIFIED:20250126T162033Z
UID:8254-1748026800-1748041200@ksh1984.de
SUMMARY:KSH 2 - Diagonale
DESCRIPTION:
URL:https://ksh1984.de/termin/ksh-2-diagonale/
ATTACH;FMTTYPE=:
END:VEVENT
END:VCALENDAR